BEGIN:VCALENDAR
VERSION:2.0
PRODID:-//Door of Life - ECPv5.1.2.1//NONSGML v1.0//EN
CALSCALE:GREGORIAN
METHOD:PUBLISH
X-WR-CALNAME:Door of Life
X-ORIGINAL-URL:https://dooroflife.org
X-WR-CALDESC:Events for Door of Life
BEGIN:VTIMEZONE
TZID:America/Chicago
BEGIN:DAYLIGHT
TZOFFSETFROM:-0600
TZOFFSETTO:-0500
TZNAME:CDT
DTSTART:20190310T080000
END:DAYLIGHT
BEGIN:STANDARD
TZOFFSETFROM:-0500
TZOFFSETTO:-0600
TZNAME:CST
DTSTART:20191103T070000
END:STANDARD
END:VTIMEZONE
BEGIN:VEVENT
DTSTART;TZID=America/Chicago:20191115T183000
DTEND;TZID=America/Chicago:20191115T183000
DTSTAMP:20260423T063657
CREATED:20190319T143757Z
LAST-MODIFIED:20190319T143757Z
UID:3610-1573842600-1573842600@dooroflife.org
SUMMARY:Operation Christmas Child Packing Party 2019
DESCRIPTION:Operation Christmas Child Packing Party 2019\nNov 15\, 2019\n6:30 Food then packing \n
URL:https://dooroflife.org/event/operation-christmas-child-packing-party-2019/
LOCATION:Door Of Life Church\, 2731 Hwy 42\, Sister Bay\, WI\, 54234\, United States
END:VEVENT
END:VCALENDAR